BEGIN:VCALENDAR
VERSION:2.0
PRODID:-//Maisha - ECPv6.15.0.1//NONSGML v1.0//EN
CALSCALE:GREGORIAN
METHOD:PUBLISH
X-WR-CALNAME:Maisha
X-ORIGINAL-URL:https://maishafoundationug.org
X-WR-CALDESC:Events for Maisha
REFRESH-INTERVAL;VALUE=DURATION:PT1H
X-Robots-Tag:noindex
X-PUBLISHED-TTL:PT1H
BEGIN:VTIMEZONE
TZID:UTC
BEGIN:STANDARD
TZOFFSETFROM:+0000
TZOFFSETTO:+0000
TZNAME:UTC
DTSTART:20240101T000000
END:STANDARD
END:VTIMEZONE
BEGIN:VEVENT
DTSTART;VALUE=DATE:20250215
DTEND;VALUE=DATE:20250220
DTSTAMP:20260421T100937
CREATED:20200909T040225Z
LAST-MODIFIED:20230613T084049Z
UID:2057-1739577600-1740009599@maishafoundationug.org
SUMMARY:Provide Pure Water And Fresh Food
DESCRIPTION:Oh God\, my uncle. How am I ever gonna explain this? The plans you refer to will soon be back in our hands. I suggest you try it again\, Luke. This time\, let go your conscious self and act on instinct. I want to come with you to Alderaan. There’s nothing for me here now. I want to learn the ways of the Force and be a Jedi\, like my father before me. As you wish. I don’t know what you’re talking about. I am a member of the Imperial Senate on a diplomatic mission to Alderaan–
URL:https://maishafoundationug.org/event/provide-pure-water-and-fresh-food-fo/
LOCATION:Bwindi Impenetrable National Park\, Mitchell\, 57301\, United States
CATEGORIES:Education,Vaccine
ATTACH;FMTTYPE=image/jpeg:https://maishafoundationug.org/wp-content/uploads/2020/09/vcn-post-1-min.jpg
ORGANIZER;CN="Milly Nassolo Kikomeko":MAILTO:millynassolo80@gmail.com
END:VEVENT
BEGIN:VEVENT
DTSTART;VALUE=DATE:20240429
DTEND;VALUE=DATE:20240430
DTSTAMP:20260421T100937
CREATED:20200909T040220Z
LAST-MODIFIED:20240429T100335Z
UID:2054-1714348800-1714435199@maishafoundationug.org
SUMMARY:Queen Elizabeth Park
DESCRIPTION:  \n\n\n\n\n\n\n\n\n\nUGANDA DISCOVERY SAFARI\n\n\n\n\n\nEntebbe\nKibale Forest\nQueen Elizabeth Park\nBwindi Forest\nLake Mburo \n\n\n\n\n\n\n\n\n\n\n\n\n\n\n\n\n\n\n\n\nItinerary Overview\n1 night | Protea Hotel\n2 nights | Primate Lodge\n2 nights | Buhoma Lodge\n1 nights | Mihingo Lodge \n\n\n\n\n\n\n\n\nHighlights\nDay to Day Program\nTravel Details\n\n\n\n\nThis short but sweet 6-night safari takes you to five remarkable National Parks\, including Kibale Forest where you’ll set off to trek for chimpanzees with the chance to see all 13 primates in this area. \nA brief morning in Queen Elizabeth NP will be where you can look out for treeclimbing lions and wildlife galore\, before you set off to Bwindi to trek for the majestic Mountain Gorillas. \nEnd your safari at Lake Mburo where you can wind down your safari with some night-drives and lakeside relaxation. \n\n\nSafari walk in Lake Mburo\nGorilla tracking in Bwindi Forest\nSearch of the tree climbing lions in Queen Elizabeth\nVisit to a local primary school\nChimp tracking in Kibale Forest\n\n\nItinerary\n\n\nDay 1: Arrival Entebbe\nDay 2: Entebbe – Kibale Forest\nDay 3: Kibale Forest\nDay 4: Kibale Forest – Bwindi (via Queen Elizabeth)\nDay 5: Bwindi Forest\nDay 6: Bwindi – Lake Mburo\nDay 7: Lake Mburo – Entebbe\n\n\n\n\n\n\n\n\n\n\nOther safaris you might be interesed in\n\n\n\nUganda Classic Safari (15 days)\n\n\nUltimate Uganda 20th Anniversary Special (21 days)\n\n\n\n\n\n\n\n\n\n\n\n  \n\n\n\n\n 
URL:https://maishafoundationug.org/event/queen-elizabeth-park/
LOCATION:Queen Elizabeth National Park\, Fort Portal\, Uganda
CATEGORIES:Donation,Education
ORGANIZER;CN="Robert Tumusabe Kikomeko":MAILTO:kikomrobert@gmail.comyahoo.com
END:VEVENT
END:VCALENDAR